BEGIN:VCALENDAR
VERSION:2.0
PRODID:-//Avada Nightclub - ECPv6.15.17.1//NONSGML v1.0//EN
CALSCALE:GREGORIAN
METHOD:PUBLISH
X-WR-CALNAME:Avada Nightclub
X-ORIGINAL-URL:https://amershamarms.co.uk
X-WR-CALDESC:Events for Avada Nightclub
REFRESH-INTERVAL;VALUE=DURATION:PT1H
X-Robots-Tag:noindex
X-PUBLISHED-TTL:PT1H
BEGIN:VTIMEZONE
TZID:UTC
BEGIN:STANDARD
TZOFFSETFROM:+0000
TZOFFSETTO:+0000
TZNAME:UTC
DTSTART:20240101T000000
END:STANDARD
END:VTIMEZONE
BEGIN:VEVENT
DTSTART;TZID=UTC:20250222T160000
DTEND;TZID=UTC:20250223T030000
DTSTAMP:20260422T153219
CREATED:20250109T152548Z
LAST-MODIFIED:20250109T161954Z
UID:526-1740240000-1740279600@amershamarms.co.uk
SUMMARY:Underground Sound Presents - An night not to be missed
DESCRIPTION:Lady Twostar will be headlining Amersham Arms on\, Saturday 22nd February. Taking inspiration from The Beatles and David Bowie\, Lady Twostar are undeniably an exciting act – they’ve already played (and sold out) some incredible venues\, so make sure to get your tickets to see them whilst you still can! \nFull line up: \n Lady Twostar – http://instagram.com/ladytwostar/ \nLame – https://open.spotify.com/artist/4EkTHZUo6YuCHqvwDhDPpE?si=w5B1hYL5RzS1guMwfWdXuQ \nCruiser – http://open.spotify.com/artist/5zYwADqi0cJ5B1f36y8kAB \nPontus Peace – http://open.spotify.com/artist/1FuVyu6Rd0YSSr4PgyTHfd \nAdvance Ticket Price: £9.50 \nDoors: 16:00
URL:https://amershamarms.co.uk/event/underground-sound-presents-an-night-not-to-be-missed
LOCATION:Amersham Arms\, 133 New Cross Street\, London\, SE14 6TY\, United Kingdom
CATEGORIES:Main Floor
ATTACH;FMTTYPE=image/jpeg:https://amershamarms.co.uk/wp-content/uploads/2025/01/Underground-Sound-22FEB-Amersham-Arm-UGS-.jpeg
END:VEVENT
END:VCALENDAR