BEGIN:VCALENDAR
VERSION:2.0
PRODID:-//Avada Nightclub - ECPv6.15.17.1//NONSGML v1.0//EN
CALSCALE:GREGORIAN
METHOD:PUBLISH
X-WR-CALNAME:Avada Nightclub
X-ORIGINAL-URL:https://amershamarms.co.uk
X-WR-CALDESC:Events for Avada Nightclub
REFRESH-INTERVAL;VALUE=DURATION:PT1H
X-Robots-Tag:noindex
X-PUBLISHED-TTL:PT1H
BEGIN:VTIMEZONE
TZID:UTC
BEGIN:STANDARD
TZOFFSETFROM:+0000
TZOFFSETTO:+0000
TZNAME:UTC
DTSTART:20240101T000000
END:STANDARD
END:VTIMEZONE
BEGIN:VEVENT
DTSTART;VALUE=DATE:20250125
DTEND;VALUE=DATE:20250126
DTSTAMP:20260422T182412
CREATED:20250109T153114Z
LAST-MODIFIED:20250109T162058Z
UID:532-1737763200-1737849599@amershamarms.co.uk
SUMMARY:Rough Edges at The Amersham Presents a Night of Pop tunes
DESCRIPTION:Having already performed at some iconic venues around London and achieved a clean-sweep on The Voice in 2017\, Clara Hurtado will be performing at Amersham Arms\, on Saturday 25th January. Taking inspiration from the likes of Kali Uchis and Billie Eilish\, Clara Hurtado is not an act you’ll want to miss! \nFull line up: \nClara Hurtado – http://open.spotify.com/artist/47dr59bmN6WMvZIUPDXQCt?si=KfpGqUt_Rx2bkk7UsxE42Q \nMisbah – http://open.spotify.com/artist/4LtxguJsqxkfipYXPqz7Vq \n7Celsius – http://instagram.com/7celsius?igsh=dXh6OGdzN2Mzam55 \nAanshika –  http://open.spotify.com/artist/3Q62b1omk5cfUhgoPJ1qAh \nAdvance Ticket Price: £9.50 \nDoors: 16:00 \nTickets available here
URL:https://amershamarms.co.uk/event/rough-edges-at-the-amersham-presents
LOCATION:Amersham Arms\, 133 New Cross Street\, London\, SE14 6TY\, United Kingdom
CATEGORIES:Main Floor
ATTACH;FMTTYPE=image/jpeg:https://amershamarms.co.uk/wp-content/uploads/2025/01/Sat-25th-Jan-Amersham-Rough-Edges-scaled.jpg
END:VEVENT
END:VCALENDAR