BEGIN:VCALENDAR
VERSION:2.0
PRODID:-//Avada Nightclub - ECPv6.15.17.1//NONSGML v1.0//EN
CALSCALE:GREGORIAN
METHOD:PUBLISH
X-ORIGINAL-URL:https://amershamarms.co.uk
X-WR-CALDESC:Events for Avada Nightclub
REFRESH-INTERVAL;VALUE=DURATION:PT1H
X-Robots-Tag:noindex
X-PUBLISHED-TTL:PT1H
BEGIN:VTIMEZONE
TZID:UTC
BEGIN:STANDARD
TZOFFSETFROM:+0000
TZOFFSETTO:+0000
TZNAME:UTC
DTSTART:20240101T000000
END:STANDARD
END:VTIMEZONE
BEGIN:VEVENT
DTSTART;VALUE=DATE:20250124
DTEND;VALUE=DATE:20250125
DTSTAMP:20260422T182024
CREATED:20250109T152134Z
LAST-MODIFIED:20250109T161916Z
UID:520-1737676800-1737763199@amershamarms.co.uk
SUMMARY:Underground Sound at the Amersham presents
DESCRIPTION:Blending dark story telling with moody melodic tones! Borderlines are an incredible listen. Drawing inspiration from Blur\, David Bowie and Catfish and The Bottlemen! They are SURE to catch your attention! Come down to Amersham Arms on Friday 24th January to see them LIVE! \n  \n  \nFull line up: \nBorderlines –  http://open.spotify.com/artist/1cxo73NVjRrCk4zJEnMDUc?si=hDttt9IeRTapMIaBElZpaA \nMan About A Dog – http://open.spotify.com/artist/0llC9SKnfc1ueV76tCZjAL?si=EfWzHxZHT8aRdnEumM6L3A \nThe Human Output – http://open.spotify.com/artist/5dFM3zgkutxr5T0O07ZT03?si=-7m-pe8vRcK7ltmjyE7gcQ \nJoseph South & Gabriel Bales – http://open.spotify.com/artist/2JZJ6MfTEoo0A7tIIfUphJ?si=3yRRuKDkQKenlRnqDWSGBw \nNot Even Here – http://instagram.com/thebandisnotevenhere/ \nAdvance Ticket Price: £9.50 \nDoors: 16:00
URL:https://amershamarms.co.uk/event/520
LOCATION:Amersham Arms\, 133 New Cross Street\, London\, SE14 6TY\, United Kingdom
CATEGORIES:Main Floor
ATTACH;FMTTYPE=image/jpeg:https://amershamarms.co.uk/wp-content/uploads/2025/01/24th-Jan-Amersham-Arms-UGS.jpg
END:VEVENT
END:VCALENDAR